BEGIN:VCALENDAR
VERSION:2.0
PRODID:-//wp-events-plugin.com//5.99912//EN
TZID:Europe/Berlin
X-WR-TIMEZONE:Europe/Berlin
BEGIN:VEVENT
UID:0-80@bopfingen.albverein.eu
DTSTART;TZID=Europe/Berlin:20260606T000000
DTEND;TZID=Europe/Berlin:20260606T000000
DTSTAMP:20251111T155315Z
URL:https://bopfingen.albverein.eu/events/ausflug-zur-landesgartenschau-na
 ch-ellwangen/
SUMMARY:Ausflug zur Landesgartenschau nach Ellwangen
DESCRIPTION:Mit dem Zug nach Ellwangen\, anschließend eine Führung auf de
 m Gelände.\nFür Albvereinsmitglieder ist die Führung kostenlos\, Nichtm
 itglieder zahlen 4 €.\n\nOrganisation: Waldemar Stibner\n\n&nbsp\;
END:VEVENT
BEGIN:VTIMEZONE
TZID:Europe/Berlin
X-LIC-LOCATION:Europe/Berlin
BEGIN:DAYLIGHT
DTSTART:20260329T030000
TZOFFSETFROM:+0100
TZOFFSETTO:+0200
TZNAME:CEST
END:DAYLIGHT
END:VTIMEZONE
END:VCALENDAR