BEGIN:VCALENDAR
VERSION:2.0
PRODID:-//wp-events-plugin.com//5.99912//EN
TZID:Europe/Berlin
X-WR-TIMEZONE:Europe/Berlin
BEGIN:VEVENT
UID:0-82@bopfingen.albverein.eu
DTSTART;TZID=Europe/Berlin:20260614T000000
DTEND;TZID=Europe/Berlin:20260614T000000
DTSTAMP:20251111T155544Z
URL:https://bopfingen.albverein.eu/events/botanische-wanderung-ins-goldbac
 htal/
SUMMARY:Botanische Wanderung ins Goldbachtal
DESCRIPTION:Länge ca. 3\,3 km\n\nOrganisation: Karin Weiß\n\nVoranzeige -
  genauere Beschreibung folgt!
END:VEVENT
BEGIN:VTIMEZONE
TZID:Europe/Berlin
X-LIC-LOCATION:Europe/Berlin
BEGIN:DAYLIGHT
DTSTART:20260329T030000
TZOFFSETFROM:+0100
TZOFFSETTO:+0200
TZNAME:CEST
END:DAYLIGHT
END:VTIMEZONE
END:VCALENDAR