BEGIN:VCALENDAR
VERSION:2.0
PRODID:-//wp-events-plugin.com//5.99912//EN
TZID:Europe/Berlin
X-WR-TIMEZONE:Europe/Berlin
BEGIN:VEVENT
UID:0-103@bopfingen.albverein.eu
DTSTART;TZID=Europe/Berlin:20260502T090000
DTEND;TZID=Europe/Berlin:20260502T180000
DTSTAMP:20260420T200117Z
URL:https://bopfingen.albverein.eu/events/fahrradtour-nach-abtsgmuend/
SUMMARY:Fahrradtour nach Abtsgmünd
DESCRIPTION:Treffpunkt: 9 Uhr am Marktplatz Bopfingen.\n\nDer Schwäbischer
  Albverein\, OG Bopfingen beteiligt sich an der Fahrrad-Sternfahrt nach Ab
 tsgmünd / Wanderheim am Laubbach-Stausee.\n\nEine Radtour im Jagsttal üb
 er Lauchheim\, Westhausen und Hüttlingen.\n\nIn Abtsgmünd treffen wir un
 s mit verschiedenen Radgruppen aus der Region und den Ortsgruppen des Schw
 äbischen Albvereins zum Kennenlernen\, Austauschen und Vernetzen.\n\nFür
  das leibliche Wohl ist bestens gesorgt.\n\nAb ca. 15 Uhr radeln wir zurü
 ck nach Bopfingen.\n\nGesamtlänge der Tour 65 km\n\nStartzeit 9 Uhr\n\nSt
 artpunkt: Marktplatz Bopfingen\n\nGesamtdauer: ca. 8-9 Stunden\n\nEine Tou
 r für E-Bike &amp\; Bio-Bike\n\nGäste und Interessierte sind herzlich wi
 llkommen.\n\nAnsprechpartner:\n\nWaldemar Stibner\n01775402536\nstibner-al
 bverein@web.de
END:VEVENT
BEGIN:VTIMEZONE
TZID:Europe/Berlin
X-LIC-LOCATION:Europe/Berlin
BEGIN:DAYLIGHT
DTSTART:20260329T030000
TZOFFSETFROM:+0100
TZOFFSETTO:+0200
TZNAME:CEST
END:DAYLIGHT
END:VTIMEZONE
END:VCALENDAR