BEGIN:VCALENDAR
VERSION:2.0
PRODID:-//wp-events-plugin.com//5.99912//EN
TZID:Europe/Berlin
X-WR-TIMEZONE:Europe/Berlin
BEGIN:VEVENT
UID:0-79@bopfingen.albverein.eu
DTSTART;TZID=Europe/Berlin:20260606T000000
DTEND;TZID=Europe/Berlin:20260606T000000
DTSTAMP:20251111T154953Z
URL:https://bopfingen.albverein.eu/events/familienausflug-zur-landesgarten
 schau-ellwangen/
SUMMARY:Familienausflug zur Landesgartenschau Ellwangen
DESCRIPTION:Mit dem Zug nach Ellwangen\, anschließend Rundgang auf dem Aue
 npark. Kinder bis 17 Jahre haben kostenlosen Eintritt.\n\nOrganisation: El
 ena Stibner
END:VEVENT
BEGIN:VTIMEZONE
TZID:Europe/Berlin
X-LIC-LOCATION:Europe/Berlin
BEGIN:DAYLIGHT
DTSTART:20260329T030000
TZOFFSETFROM:+0100
TZOFFSETTO:+0200
TZNAME:CEST
END:DAYLIGHT
END:VTIMEZONE
END:VCALENDAR