BEGIN:VCALENDAR
VERSION:2.0
PRODID:-//wp-events-plugin.com//5.99912//EN
TZID:Europe/Berlin
X-WR-TIMEZONE:Europe/Berlin
BEGIN:VEVENT
UID:0-77@bopfingen.albverein.eu
DTSTART;TZID=Europe/Berlin:20260514T000000
DTEND;TZID=Europe/Berlin:20260514T093000
DTSTAMP:20260407T133912Z
URL:https://bopfingen.albverein.eu/events/familienwanderung-mit-besuch-des
 -keltendorfs/
SUMMARY:Wanderung zum Keltendorf
DESCRIPTION:Begleite uns am 14.05.2026 auf eine Wanderung zum Keltendorf in
  Bopfingen. Dort erwartet uns eine spannende Führung\, die uns die Geschi
 chte der Kelten näherbringt. Während der Wanderung umrunden wir das Wahr
 zeichen Bopfingens\, den Ipf. Die Führung im Keltendorf beginnt um 11.00 
 Uhr. Vergesst nicht Proviant mitzunehmen. Wir freuen uns über zahlreiche 
 Mitwanderer!\n\n- Treffpunkt: Ipfmessplatz in Bopfingen\, um 9:30 Uhr\n- 
 Unkostenbeitrag: 3 Euro (Erw.)\n- Kostenfrei: Mitglieder und Kinder\n- We
 tterangepasste Kleidung\, Vesper\, Getränke\, Sonnenschutz\n- Geeignet f
 ür Kinderwägen\, Schotter- und asphaltierte Wege\n- Wegstrecke: ca. 4\,8
  km\n\nInformation und Anmeldung bis zum 07.05.2026:\n\nAdrienn Buchholz\n
 buchholz-albverein@web.de\n\n&nbsp\;\n\n&nbsp\;\n\n&nbsp\;\n\n&nbsp\;
ATTACH;FMTTYPE=image/jpeg:https://bopfingen.albverein.eu/wp-content/upload
 s/sites/547/2025/11/20260406_175615-e1775569095123.jpg
LOCATION:Keltendorf\, Ipf\, Bopfingen\, Deutschland
GEO:48.870278;10.3575
X-APPLE-STRUCTURED-LOCATION;VALUE=URI;X-ADDRESS=Ipf\, Bopfingen\, Deutschla
 nd;X-APPLE-RADIUS=100;X-TITLE=Keltendorf:geo:48.870278,10.3575
END:VEVENT
BEGIN:VTIMEZONE
TZID:Europe/Berlin
X-LIC-LOCATION:Europe/Berlin
BEGIN:DAYLIGHT
DTSTART:20260329T030000
TZOFFSETFROM:+0100
TZOFFSETTO:+0200
TZNAME:CEST
END:DAYLIGHT
END:VTIMEZONE
END:VCALENDAR