BEGIN:VCALENDAR
VERSION:2.0
PRODID:-//wp-events-plugin.com//5.99912//EN
TZID:Europe/Berlin
X-WR-TIMEZONE:Europe/Berlin
BEGIN:VEVENT
UID:0-93@bopfingen.albverein.eu
DTSTART;TZID=Europe/Berlin:20261004T000000
DTEND;TZID=Europe/Berlin:20261004T000000
DTSTAMP:20260128T163922Z
URL:https://bopfingen.albverein.eu/events/familienwanderung-um-baldern-mit
 -schlossfuehrung/
SUMMARY:Familienwanderung um Baldern mit Schlossführung - Achtung Terminä
 nderung!!!
DESCRIPTION:Organisation: Adrienn Buchholz\n\nVoranzeige - genauere Beschre
 ibung folgt!
END:VEVENT
BEGIN:VTIMEZONE
TZID:Europe/Berlin
X-LIC-LOCATION:Europe/Berlin
BEGIN:DAYLIGHT
DTSTART:20260329T030000
TZOFFSETFROM:+0100
TZOFFSETTO:+0200
TZNAME:CEST
END:DAYLIGHT
END:VTIMEZONE
END:VCALENDAR