BEGIN:VCALENDAR
VERSION:2.0
PRODID:-//wp-events-plugin.com//5.99912//EN
TZID:Europe/Berlin
X-WR-TIMEZONE:Europe/Berlin
BEGIN:VEVENT
UID:0-83@bopfingen.albverein.eu
DTSTART;TZID=Europe/Berlin:20260704T000000
DTEND;TZID=Europe/Berlin:20260704T000000
DTSTAMP:20251111T155757Z
URL:https://bopfingen.albverein.eu/events/ipfmessumzug/
SUMMARY:Ipfmessumzug
DESCRIPTION:Organisation: Vorstand\n\nVoranzeige - genauere Beschreibung fo
 lgt!
END:VEVENT
BEGIN:VTIMEZONE
TZID:Europe/Berlin
X-LIC-LOCATION:Europe/Berlin
BEGIN:DAYLIGHT
DTSTART:20260329T030000
TZOFFSETFROM:+0100
TZOFFSETTO:+0200
TZNAME:CEST
END:DAYLIGHT
END:VTIMEZONE
END:VCALENDAR