BEGIN:VCALENDAR
VERSION:2.0
PRODID:-//wp-events-plugin.com//5.99912//EN
TZID:Europe/Berlin
X-WR-TIMEZONE:Europe/Berlin
BEGIN:VEVENT
UID:0-85@bopfingen.albverein.eu
DTSTART;TZID=Europe/Berlin:20260718T000000
DTEND;TZID=Europe/Berlin:20260719T000000
DTSTAMP:20260105T183754Z
URL:https://bopfingen.albverein.eu/events/kanutour-auf-der-altmuehl-2/
SUMMARY:Kanutour auf der Altmühl - Achtung Terminänderung!!!
DESCRIPTION:Der Termin musste vom 11.7.26 auf den 18.7.26 verlegt werden!!\
 n\nMit anschließendem Zelten auf dem Zeltplatz Aktiv Mühle\n\nOrganisati
 on: Waldemar Stibner
END:VEVENT
BEGIN:VTIMEZONE
TZID:Europe/Berlin
X-LIC-LOCATION:Europe/Berlin
BEGIN:DAYLIGHT
DTSTART:20260329T030000
TZOFFSETFROM:+0100
TZOFFSETTO:+0200
TZNAME:CEST
END:DAYLIGHT
END:VTIMEZONE
END:VCALENDAR