BEGIN:VCALENDAR
VERSION:2.0
PRODID:-//wp-events-plugin.com//5.99912//EN
TZID:Europe/Berlin
X-WR-TIMEZONE:Europe/Berlin
BEGIN:VEVENT
UID:0-89@bopfingen.albverein.eu
DTSTART;TZID=Europe/Berlin:20260830T000000
DTEND;TZID=Europe/Berlin:20260830T000000
DTSTAMP:20251118T172455Z
URL:https://bopfingen.albverein.eu/events/sonntagswanderung/
SUMMARY:Sonntagswanderung
DESCRIPTION:Wanderung zur Rehhaldenhütte in Plüderhausen (Länge ca. 12 k
 m)\n\nOrganisation: Helga Fasser\n\nVoranzeige - genauere Beschreibung fol
 gt!
END:VEVENT
BEGIN:VTIMEZONE
TZID:Europe/Berlin
X-LIC-LOCATION:Europe/Berlin
BEGIN:DAYLIGHT
DTSTART:20260329T030000
TZOFFSETFROM:+0100
TZOFFSETTO:+0200
TZNAME:CEST
END:DAYLIGHT
END:VTIMEZONE
END:VCALENDAR