BEGIN:VCALENDAR
VERSION:2.0
PRODID:-//wp-events-plugin.com//5.99912//EN
TZID:Europe/Berlin
X-WR-TIMEZONE:Europe/Berlin
BEGIN:VEVENT
UID:0-75@bopfingen.albverein.eu
DTSTART;TZID=Europe/Berlin:20260501T073000
DTEND;TZID=Europe/Berlin:20260501T170000
DTSTAMP:20260423T081613Z
URL:https://bopfingen.albverein.eu/events/wanderung-auf-dem-schwedenweg/
SUMMARY:Wanderung auf dem Schwedenweg
DESCRIPTION:Treffpunkt: Stadtmitte Bopfingen (am Rathaus) um 7:30 Uhr\nLän
 ge der Wanderung: ca. 22 km\n\nEine geschichtsreiche Wanderung auf den Spu
 ren der einstigen Marschroute des schwedisch-protestantischen Heeres im Dr
 eißigjährigen Krieg.\n\nDer Weg führt über den Breitwang &gt\;&gt\; de
 m ehemaligen schwedischen Lager &lt\;&lt\; zum Schlachtfeld auf den Albuch
  bei Nördlingen.\n\nFünf Infotafeln beschreiben unterwegs die geschichtl
 ichen Zusammenhänge\, die Bestandteile der Armee und den Verlauf der denk
 würdigen Schlacht auf dem Albuch aus dem 17. Jahrhundert.\n\nAm Ziel ange
 kommen wird uns Herr Schumann zu den geschichtlichen Hintergründen der Sc
 hlacht  erzählen.\n\nEin Quereinstieg ist vom Wanderparkplatz Alte Bürg
  um ca. 12 Uhr mit einer Reststrecke von ca. 6\,5 km möglich.\n\nAlternat
 iv vom Wanderparkplatz Ederheim/Hürnheim um ca. 13 Uhr mit einer Reststre
 cke von ca. 1 km.\n\nNach der Wanderung kehren wir auf dem Maifest vom Lie
 derkranz Trochtelfingen um ca. 15 Uhr ein.\n\nUm den Rücktransport zu org
 anisieren ist eine Anmeldung erforderlich.\n\nOrganisation:\n\nWaldemar St
 ibner\n0177 5402536\nstibner-albverein@web.de\n\n&nbsp\;\n\n&nbsp\;
END:VEVENT
BEGIN:VTIMEZONE
TZID:Europe/Berlin
X-LIC-LOCATION:Europe/Berlin
BEGIN:DAYLIGHT
DTSTART:20260329T030000
TZOFFSETFROM:+0100
TZOFFSETTO:+0200
TZNAME:CEST
END:DAYLIGHT
END:VTIMEZONE
END:VCALENDAR